Workbook
Name 계정과목: [2]계정과목!$A$2:$A$66
Name 구분: IF([3]지출내역!$H1=1,[3]수입과목!$A$4:$A$45,IF([3]지출내역!$H1=2,[3]지출과목!$A$4:$A$64,해당자료없음))
Name 구분: IF([3]지출내역!$H1=1,[3]수입과목!$A$4:$A$45,IF([3]지출내역!$H1=2,[3]지출과목!$A$4:$A$64,해당자료없음))
Name 구분: IF([3]지출내역!$H1=1,[3]수입과목!$A$4:$A$45,IF([3]지출내역!$H1=2,[3]지출과목!$A$4:$A$64,해당자료없음))
Name 국고: IF([4]지출내역!$G1=1,[4]수입과목!$A$4:$A$45,IF([4]지출내역!$G1=2,[4]지출과목!$A$4:$A$64,해당자료없음))
Name 국고: IF([4]지출내역!$G1=1,[4]수입과목!$A$4:$A$45,IF([4]지출내역!$G1=2,[4]지출과목!$A$4:$A$64,해당자료없음))
Name 국고: IF([4]지출내역!$G1=1,[4]수입과목!$A$4:$A$45,IF([4]지출내역!$G1=2,[4]지출과목!$A$4:$A$64,해당자료없음))
Name 국고교육과정개발비: IF([4]지출내역!$G1=1,[4]수입과목!$A$4:$A$45,IF([4]지출내역!$G1=2,[4]지출과목!$A$4:$A$64,해당자료없음))
Name 국고교육과정개발비: IF([4]지출내역!$G1=1,[4]수입과목!$A$4:$A$45,IF([4]지출내역!$G1=2,[4]지출과목!$A$4:$A$64,해당자료없음))
Name 국고교육과정개발비: IF([4]지출내역!$G1=1,[4]수입과목!$A$4:$A$45,IF([4]지출내역!$G1=2,[4]지출과목!$A$4:$A$64,해당자료없음))
Name 기관구분: [2]계정과목!$C$2:$C$6
Name 기업위성연구실과제1차년: [1]기업지원사업!#REF!
Name 기업위성연구실과제1차년: [1]기업지원사업!#REF!
Name 기업위성연구실과제1차년: [1]기업지원사업!#REF!
Name 맞춤형기업지원: [1]기업지원사업!#REF!
Name 맞춤형기업지원: [1]기업지원사업!#REF!
Name 맞춤형기업지원: [1]기업지원사업!#REF!
Name 산학협력협의체: [1]기업지원사업!#REF!
Name 산학협력협의체: [1]기업지원사업!#REF!
Name 산학협력협의체: [1]기업지원사업!#REF!
Name 영수: [2]계정과목!$C$11:$C$14
Name 영수구분: [3]수입과목!$C$4:$C$11
Name 증빙: [3]수입과목!$D$4:$D$11
Name 증빙구분: [2]계정과목!$D$11:$D$15
Name 지급처: [2]거래처!$A1048565:$A987
Name 캡스톤번호: #REF!
Name 캡스톤번호: #REF!
Name 캡스톤번호: #REF!
Name 퇴직충당금: IF([3]지출내역!$H1=1,[3]수입과목!$A$4:$A$45,IF([3]지출내역!$H1=2,[3]지출과목!$A$4:$A$64,해당자료없음))
Name 퇴직충당금: IF([3]지출내역!$H1=1,[3]수입과목!$A$4:$A$45,IF([3]지출내역!$H1=2,[3]지출과목!$A$4:$A$64,해당자료없음))
Name 퇴직충당금: IF([3]지출내역!$H1=1,[3]수입과목!$A$4:$A$45,IF([3]지출내역!$H1=2,[3]지출과목!$A$4:$A$64,해당자료없음))

Sheet 본예산
A1: 산학공동기술개발과제 선정 현황
E2: (단위:원)
A3: 번호 | B3: 과제책임자 | C3: 과제명 | D3: 사업비 | E3: 비 고
A4: 1 | B4: 임승철 | C4: 스마트폰용 바탕화면 서비스 | D4: =VLOOKUP(B4,[1]기업지원사업!D4:$F$40,3,0) -> 10000000
A5: 2 | B5: 채영석 | C5: 차양식 방화루버 형상에 따른 방화성능 연구 | D5: =VLOOKUP(B5,[1]기업지원사업!D5:$F$40,3,0) -> 15000000
A6: 3 | B6: 노영환 | C6: 집어등용 고출력 LED 모듈 열 특성 연구 | D6: =VLOOKUP(B6,[1]기업지원사업!D6:$F$40,3,0) -> 20000000
A7: 4 | B7: 오향순 | C7: Suction Kit 개발 | D7: =VLOOKUP(B7,[1]기업지원사업!D7:$F$40,3,0) -> 10000000
A8: 5 | B8: 우희순 | C8: 신경해부학 및 임상신경학을 배우는 학생들의 학습효과 증진을 위한 뇌모형 개발 | D8: =VLOOKUP(B8,[1]기업지원사업!D8:$F$40,3,0) -> 17000000
A9: 6 | B9: 이동우 | C9: 규칙 기반 태양전지 전압 분석모듈 개발 | D9: =VLOOKUP(B9,[1]기업지원사업!D9:$F$40,3,0) -> 10000000
A10: 7 | B10: 어성욱 | C10: 철도 차량기지용 투수성 불록 개발 | D10: =VLOOKUP(B10,[1]기업지원사업!D10:$F$40,3,0) -> 10120000
A11: 8 | B11: 서기범 | C11: 포신내 마모부 자동 검출 소프트웨어 개발 | D11: 0
A12: 9 | B12: 신명곤 | C12: 육가공 제품용 분말향료 개발 | D12: =VLOOKUP(B12,[1]기업지원사업!$D$4:$F$40,3,0) -> 10000000
A13: 10 | B13: 박종빈 | C13: 프로골프선수용 테크닉로직시스템 GUI개발 | D13: 0
A14: 11 | B14: 고광일 | C14: N-스크린 VOD 사용 서비스를 위한 비디오 스트리밍 S/W 분석 | D14: 0
A15: 12 | B15: 정병현 | C15: 중소기업형 물류센터 관리 프로그램 | D15: =VLOOKUP(B15,[1]기업지원사업!$D$4:$F$40,3,0) -> 10000000
A16: 13 | B16: 김혜균 | C16: 알카리성 모발처리제를 이용한 후 처리제 개발 | D16: =VLOOKUP(B16,[1]기업지원사업!$D$4:$F$40,3,0) -> 17000000
A17: 14 | B17: 이태규 | C17: 콘크리트 구조물의 양생일정 선정 | D17: =VLOOKUP(B17,[1]기업지원사업!$D$4:$F$40,3,0) -> 15000000
A18: 15 | B18: 장선아 | C18: 영유아용 말지각검사 및 강화시스템 개발 | D18: =VLOOKUP(B18,[1]기업지원사업!$D$4:$F$40,3,0) -> 9000000
A19: 16 | B19: 강부병 | C19: 적외선을 이용한 고속 회전체 온도 측정 시스템 성능 평가 기술 개발 | D19: =VLOOKUP(B19,[1]기업지원사업!$D$4:$F$40,3,0) -> 10000000
A20: 17 | B20: 장기연 | C20: 한국형 맞춤식 실내이동 보조기구(실내용 간편 휠체어) 개발 | D20: =VLOOKUP(B20,[1]기업지원사업!$D$4:$F$40,3,0) -> 7000000
A21: 18 | B21: 이영미 | C21: 인공와우 아동의 수행력 모니터를 위한 웹 기반의 관리 시스템 개발 | D21: =VLOOKUP(B21,[1]기업지원사업!$D$4:$F$40,3,0) -> 15000000
A22: 19 | B22: 변재종 | C22: 노인의 낙상예방 운동프로그램 개발 및 효과검증 | D22: =VLOOKUP(B22,[1]기업지원사업!$D$4:$F$40,3,0) -> 10000000
A23: 20 | B23: 김명화 | C23: 전신진동운동기구의 신체반응에 따른 진동수 구축 | D23: =VLOOKUP(B23,[1]기업지원사업!$D$4:$F$40,3,0) -> 10000000
A24: 21 | B24: 최봉삼 | C24: 척수손상환자의 신체활동 평가도구 개발 | D24: =VLOOKUP(B24,[1]기업지원사업!$D$4:$F$40,3,0) -> 20000000
B25: 사업예산 | D25: =SUM(D4:D24) -> 225120000
A26: 1 | B26: 장덕진 | C26: WEB 기반 원격 무선랭 모니터링 시스템 개발 | D26: =VLOOKUP(B26,[1]기업지원사업!$D$4:$F$40,3,0) -> 15000000
A27: 2 | B27: 이창조 | C27: 한글/교육 앱 컨텐츠 제작 및 이모티콘 카카오톡 서비스 | D27: =VLOOKUP(B27,[1]기업지원사업!$D$4:$F$40,3,0) -> 25000000
A28: 3 | B28: 김삼택 | C28: 크로마키 기법을 이용한 전문가용 바이크 신체 자동 측정 시스템 개발 | D28: =VLOOKUP(B28,[1]기업지원사업!$D$4:$F$40,3,0) -> 16000000
A29: 4 | B29: 김기영 | C29: 스마트캠퍼스용 클라우드컴퓨터시스템 구축 및 운영 | D29: 14000000
A30: 5 | B30: 정병현 | C30: 전투기 시뮬레이터용 모의 Display 계기 개발 | D30: =VLOOKUP(B30,[1]기업지원사업!$D$4:$F$40,3,0) -> 10000000
B31: 사업예산 | D31: =VLOOKUP(B31,'[1]확정내용 출력용'!$C$5:$G$37,3,0) -> 318020000

Sheet 추경예산
A1: 추경예산 산학공동기술개발과제 선정 현황
E2: (단위:원)
A3: 번호 | B3: 과제책임자 | C3: 과제명 | D3: 사업비 | E3: 비고
A4: 1 | B4: 김원 | C4: 이동 소포의 상면에 대한 오버헤드 영상 추출 기술 개발 | D4: 15000000 | E4: =VLOOKUP(B4,[1]기업지원사업!D4:$F$40,3,0) -> 15000000
A5: 2 | B5: 서기범 | C5: 철도 감시시스템을 위한 멀티 채널 HD Mux 칩개발 | D5: 15000000 | E5: =VLOOKUP(B5,[1]기업지원사업!D5:$F$40,3,0) -> 15000000
A6: 3 | B6: 윤기홍 | C6: Bacillus subtilis를 이용한 재조합 단백질 생산용 벡터개발 | D6: 15000000 | E6: =VLOOKUP(B6,[1]기업지원사업!D6:$F$40,3,0) -> 15000000

Sheet 대전예산
A1: 대전광역시예산 산학공동기술개발과제 선정 현황
E2: (단위:원)
A3: 번호 | B3: 과제책임자 | C3: 과제명 | D3: 사업비 | E3: 비고
A4: 1 | B4: 김학만 | C4: 빅토우 케어시스템 개발 및 상품화 | D4: 18000000 | E4: =VLOOKUP(B4,[1]기업지원사업!D4:$F$40,3,0) -> 18000000
A5: 2 | B5: 노찬숙 | C5: ERP 사용자의 모바일 오피스 환경구축을 위한 모바일 어플리케이션 플랫폼 개발 | D5: 17000000 | E5: =VLOOKUP(B5,[1]기업지원사업!D5:$F$40,3,0) -> 17000000
A6: 3 | B6: 박재영 | C6: 밀착검지기(이중계형) | D6: 21000000 | E6: =VLOOKUP(B6,[1]기업지원사업!D6:$F$40,3,0) -> 21000000
